BEGIN:VCALENDAR
VERSION:2.0
PRODID:-//urwahl3000//gruene-lichtenfels.de//DE
CALSCALE:GREGORIAN
BEGIN:VEVENT
DTSTART:20210728T100000
DTEND:20210728T100000
LOCATION: Redwitz
DTSTAMP:20210728T100000
SUMMARY:Klima-Tour in Redwitz – Pflegepolitischer Austausch im AWO-Sozialzentrum
URL;VALUE=URI:https://gruene-lichtenfels.de/termin/klima-tour-in-redwitz-pflegepolitischer-austausch-im-awo-sozialzentrum/
DESCRIPTION:Teilnahme nur für vollständig geimpfte Personen möglich!

<a href="https://martin-pfeiffer.info/termine/#klima-tour">https://martin-pfeiffer.info/termine/#klima-tour</a>
UID:20210728T100000-20210728T100000-20210728T100000
END:VEVENT
END:VCALENDAR