BEGIN:VCALENDAR
VERSION:2.0
PRODID:-//urwahl3000//gruene-lichtenfels.de//DE
CALSCALE:GREGORIAN
BEGIN:VEVENT
DTSTART:20260220T110000
DTEND:20260220T190000
LOCATION:Trockenmühle 6 Kleukheim
DTSTAMP:20260220T110000
SUMMARY:„Brauen im alten Säustall“ – Brauerlebnistag
URL;VALUE=URI:https://gruene-lichtenfels.de/termin/brauen-im-alten-saeustall-brauerlebnistag/
DESCRIPTION:Innen statt Außen, auf die Nutzung von leerstehenden Grundstücken und Häusern haben die beiden GOL Vertreter im Marktgemeinderat immer wieder Bürgermeister Bernhard Storath hingewiesen.

Am Freitag, den 20.02.26 zwischen 11.00 und 19.00 h haben alle Interessierten in der Brauwerkstatt Schatzenhof, Trockenmühle 6 in Kleukheim die Gelegenheit, beim Brauerlebnistag nicht nur die Umnutzung eines alten Säustalls sondern auch das Brauhandwerk vom Malz- und Braumeister Christoph Matheis-Schatz sowie die übrigen Kandidierenden der GOL kennenzulernen.
Bei freiem Eintritt ist bestimmt auch noch a ProBiererla dabei.
UID:20260220T110000-20260220T110000-20260220T190000
END:VEVENT
END:VCALENDAR